BEGIN:VCALENDAR
VERSION:2.0
PRODID:-//jEvents 2.0 for Joomla//EN
CALSCALE:GREGORIAN
METHOD:PUBLISH
BEGIN:VTIMEZONE
TZID:Europe/Amsterdam
BEGIN:STANDARD
DTSTART:20240223T093000
RDATE:20240331T030000
TZOFFSETFROM:+0200
TZOFFSETTO:+0100
TZNAME:Europe/Amsterdam CET
END:STANDARD
BEGIN:STANDARD
DTSTART:20241027T020000
RDATE:20250330T030000
TZOFFSETFROM:+0200
TZOFFSETTO:+0100
TZNAME:Europe/Amsterdam CET
END:STANDARD
BEGIN:STANDARD
DTSTART:20251026T020000
RDATE:20260329T030000
TZOFFSETFROM:+0200
TZOFFSETTO:+0100
TZNAME:Europe/Amsterdam CET
END:STANDARD
BEGIN:STANDARD
DTSTART:20261025T020000
RDATE:20270328T030000
TZOFFSETFROM:+0200
TZOFFSETTO:+0100
TZNAME:Europe/Amsterdam CET
END:STANDARD
BEGIN:STANDARD
DTSTART:20271031T020000
RDATE:20280326T030000
TZOFFSETFROM:+0200
TZOFFSETTO:+0100
TZNAME:Europe/Amsterdam CET
END:STANDARD
BEGIN:STANDARD
DTSTART:20281029T020000
RDATE:20290325T030000
TZOFFSETFROM:+0200
TZOFFSETTO:+0100
TZNAME:Europe/Amsterdam CET
END:STANDARD
BEGIN:STANDARD
DTSTART:20291028T020000
RDATE:20300331T030000
TZOFFSETFROM:+0200
TZOFFSETTO:+0100
TZNAME:Europe/Amsterdam CET
END:STANDARD
BEGIN:STANDARD
DTSTART:20301027T020000
RDATE:20310330T030000
TZOFFSETFROM:+0200
TZOFFSETTO:+0100
TZNAME:Europe/Amsterdam CET
END:STANDARD
BEGIN:STANDARD
DTSTART:20311026T020000
RDATE:20320328T030000
TZOFFSETFROM:+0200
TZOFFSETTO:+0100
TZNAME:Europe/Amsterdam CET
END:STANDARD
BEGIN:DAYLIGHT
DTSTART:20240331T030000
RDATE:20241027T020000
TZOFFSETFROM:+0100
TZOFFSETTO:+0200
TZNAME:Europe/Amsterdam CEST
END:DAYLIGHT
BEGIN:DAYLIGHT
DTSTART:20250330T030000
RDATE:20251026T020000
TZOFFSETFROM:+0100
TZOFFSETTO:+0200
TZNAME:Europe/Amsterdam CEST
END:DAYLIGHT
BEGIN:DAYLIGHT
DTSTART:20260329T030000
RDATE:20261025T020000
TZOFFSETFROM:+0100
TZOFFSETTO:+0200
TZNAME:Europe/Amsterdam CEST
END:DAYLIGHT
BEGIN:DAYLIGHT
DTSTART:20270328T030000
RDATE:20271031T020000
TZOFFSETFROM:+0100
TZOFFSETTO:+0200
TZNAME:Europe/Amsterdam CEST
END:DAYLIGHT
BEGIN:DAYLIGHT
DTSTART:20280326T030000
RDATE:20281029T020000
TZOFFSETFROM:+0100
TZOFFSETTO:+0200
TZNAME:Europe/Amsterdam CEST
END:DAYLIGHT
BEGIN:DAYLIGHT
DTSTART:20290325T030000
RDATE:20291028T020000
TZOFFSETFROM:+0100
TZOFFSETTO:+0200
TZNAME:Europe/Amsterdam CEST
END:DAYLIGHT
BEGIN:DAYLIGHT
DTSTART:20300331T030000
RDATE:20301027T020000
TZOFFSETFROM:+0100
TZOFFSETTO:+0200
TZNAME:Europe/Amsterdam CEST
END:DAYLIGHT
BEGIN:DAYLIGHT
DTSTART:20310330T030000
RDATE:20311026T020000
TZOFFSETFROM:+0100
TZOFFSETTO:+0200
TZNAME:Europe/Amsterdam CEST
END:DAYLIGHT
END:VTIMEZONE
BEGIN:VEVENT
UID:a990bd110b76b017ab95faa32b3c8483
CATEGORIES:Buitenrit
CREATED:20250108T223606
SUMMARY:Duinrit manege Groot, Egmond  
LOCATION:Herenweg 154\, 1934 PC Egmond aan den Hoef
DESCRIPTION:De eerste buitenrit in 2025 is een duinrit  bij Manege Groot in Egmond.\nEn
  wel op zondag 23 februari 2025 van 09:30-11.30 we worden verwacht om 09.00
  voor indeling en opzadelen.\nEr kunnen 10 ruiters mee.   \nWaarschijnlijk 
 rijdt Gert van Dijk voor.\nVoor de liefhebbers gaan we na de rit lunchen bi
 j "Zorgeloos" (via whatsapp gecommuniceerd).\n Adres\nHerenweg 154\n1934 PC
  Egmond aan den Hoef\nhttps://www.manegegroot.nl/ (https://www.manegegroot.
 nl/)\n\nPrijs    (bij min. 8 deelnemers)\nLeden: € 45,00\nIntro's: € 50,00 
    \nAanmelden\nAanmelden kan door een e-mail te sturen naar  (mailto:bbrr.
 evenementen@yahoo.com.) (mailto:bbrr.evenementen@yahoo.com)Dit e-mailadres 
 wordt beveiligd tegen spambots. JavaScript dient ingeschakeld te zijn om he
 t te bekijken.     \nRuiters\n\n -  Laura de Rochemont\n -  Esmee Otto\n - 
  Astrid Vleeshakker\n -  Dineke Hoekstra\n -  Gerrit Goede\n -  Gesine Alke
 ma-Westphal\n -  Mathijs de Vries\n -  Evert Goede\n -  Charlotte Janssen\n
  -  Hanneke van Zadelhoff
X-ALT-DESC;FMTTYPE=text/html:<p style="color: #333333; font-family: Tahoma, Helvetica, Arial, sans-serif
 ; line-height: 17.02400016784668px;"><span style="font-family: helvetica;">
 De eerste buitenrit in 2025 is een duinrit&nbsp; bij Manege Groot in Egmond
 .</span></p><p style="color: #333333; font-family: Tahoma, Helvetica, Arial
 , sans-serif; line-height: 17.02400016784668px;"><span style="font-family: 
 helvetica;">En wel op zondag 23 februari 2025 van 09:3</span><span style="f
 ont-family: helvetica;">0-11.30 we worden verwacht om 09.00 voor indeling e
 n opzadelen.</span></p><p>Er kunnen 10 ruiters mee.&nbsp; &nbsp;</p><p>Waar
 schijnlijk rijdt Gert van Dijk voor.</p><p>Voor de liefhebbers gaan we na d
 e rit lunchen bij "Zorgeloos" (via whatsapp gecommuniceerd).</p><p>&nbsp;<s
 trong>Adres</strong></p><p>Herenweg 154<br />1934 PC Egmond aan den Hoef<br
  /><a href="https://www.manegegroot.nl/">https://www.manegegroot.nl/</a></p
 ><p><br /><strong>Prijs&nbsp; &nbsp; (bij min. 8 deelnemers)</strong></p><p
 >Leden: € 45,00<br />Intro's: € 50,00&nbsp; &nbsp;&nbsp;</p><p><strong>Aanm
 elden</strong><br />Aanmelden kan door een e-mail te sturen naar&nbsp;<a hr
 ef="mailto:bbrr.evenementen@yahoo.com."></a><span id="cloakb99757d9c8ff3e85
 3c051dc5bc048a14"><a href="mailto:bbrr.evenementen@yahoo.com"></a><joomla-h
 idden-mail  is-link="1" is-email="1" first="YmJyci5ldmVuZW1lbnRlbg==" last=
 "eWFob28uY29t" text="YmJyci5ldmVuZW1lbnRlbkB5YWhvby5jb20=" base="" >Dit e-m
 ailadres wordt beveiligd tegen spambots. JavaScript dient ingeschakeld te z
 ijn om het te bekijken.</joomla-hidden-mail>&nbsp; &nbsp; &nbsp;</span></p>
 <p><strong>Ruiters</strong></p><ol><li>&nbsp;Laura de Rochemont</li><li>&nb
 sp;Esmee Otto</li><li>&nbsp;Astrid Vleeshakker</li><li>&nbsp;Dineke Hoekstr
 a</li><li>&nbsp;Gerrit Goede</li><li>&nbsp;Gesine Alkema-Westphal</li><li>&
 nbsp;Mathijs de Vries</li><li>&nbsp;Evert Goede</li><li>&nbsp;Charlotte Jan
 ssen</li><li>&nbsp;Hanneke van Zadelhoff</li></ol>
CONTACT:Laura de Rochemont
DTSTAMP:20260425T182057
DTSTART;TZID=Europe/Amsterdam:20250223T093000
DTEND;TZID=Europe/Amsterdam:20250223T113000
SEQUENCE:0
TRANSP:OPAQUE
END:VEVENT
END:VCALENDAR