BEGIN:VCALENDAR
VERSION:2.0
PRODID:-//jEvents 2.0 for Joomla//EN
CALSCALE:GREGORIAN
METHOD:PUBLISH
BEGIN:VTIMEZONE
TZID:Europe/Amsterdam
BEGIN:STANDARD
DTSTART:20241027T020000
RDATE:20250330T030000
TZOFFSETFROM:+0200
TZOFFSETTO:+0100
TZNAME:Europe/Amsterdam CET
END:STANDARD
BEGIN:STANDARD
DTSTART:20251026T020000
RDATE:20260329T030000
TZOFFSETFROM:+0200
TZOFFSETTO:+0100
TZNAME:Europe/Amsterdam CET
END:STANDARD
BEGIN:STANDARD
DTSTART:20261025T020000
RDATE:20270328T030000
TZOFFSETFROM:+0200
TZOFFSETTO:+0100
TZNAME:Europe/Amsterdam CET
END:STANDARD
BEGIN:STANDARD
DTSTART:20271031T020000
RDATE:20280326T030000
TZOFFSETFROM:+0200
TZOFFSETTO:+0100
TZNAME:Europe/Amsterdam CET
END:STANDARD
BEGIN:STANDARD
DTSTART:20281029T020000
RDATE:20290325T030000
TZOFFSETFROM:+0200
TZOFFSETTO:+0100
TZNAME:Europe/Amsterdam CET
END:STANDARD
BEGIN:STANDARD
DTSTART:20291028T020000
RDATE:20300331T030000
TZOFFSETFROM:+0200
TZOFFSETTO:+0100
TZNAME:Europe/Amsterdam CET
END:STANDARD
BEGIN:STANDARD
DTSTART:20301027T020000
RDATE:20310330T030000
TZOFFSETFROM:+0200
TZOFFSETTO:+0100
TZNAME:Europe/Amsterdam CET
END:STANDARD
BEGIN:STANDARD
DTSTART:20311026T020000
RDATE:20320328T030000
TZOFFSETFROM:+0200
TZOFFSETTO:+0100
TZNAME:Europe/Amsterdam CET
END:STANDARD
BEGIN:DAYLIGHT
DTSTART:20240712T093000
RDATE:20241027T020000
TZOFFSETFROM:+0100
TZOFFSETTO:+0200
TZNAME:Europe/Amsterdam CEST
END:DAYLIGHT
BEGIN:DAYLIGHT
DTSTART:20250330T030000
RDATE:20251026T020000
TZOFFSETFROM:+0100
TZOFFSETTO:+0200
TZNAME:Europe/Amsterdam CEST
END:DAYLIGHT
BEGIN:DAYLIGHT
DTSTART:20260329T030000
RDATE:20261025T020000
TZOFFSETFROM:+0100
TZOFFSETTO:+0200
TZNAME:Europe/Amsterdam CEST
END:DAYLIGHT
BEGIN:DAYLIGHT
DTSTART:20270328T030000
RDATE:20271031T020000
TZOFFSETFROM:+0100
TZOFFSETTO:+0200
TZNAME:Europe/Amsterdam CEST
END:DAYLIGHT
BEGIN:DAYLIGHT
DTSTART:20280326T030000
RDATE:20281029T020000
TZOFFSETFROM:+0100
TZOFFSETTO:+0200
TZNAME:Europe/Amsterdam CEST
END:DAYLIGHT
BEGIN:DAYLIGHT
DTSTART:20290325T030000
RDATE:20291028T020000
TZOFFSETFROM:+0100
TZOFFSETTO:+0200
TZNAME:Europe/Amsterdam CEST
END:DAYLIGHT
BEGIN:DAYLIGHT
DTSTART:20300331T030000
RDATE:20301027T020000
TZOFFSETFROM:+0100
TZOFFSETTO:+0200
TZNAME:Europe/Amsterdam CEST
END:DAYLIGHT
BEGIN:DAYLIGHT
DTSTART:20310330T030000
RDATE:20311026T020000
TZOFFSETFROM:+0100
TZOFFSETTO:+0200
TZNAME:Europe/Amsterdam CEST
END:DAYLIGHT
END:VTIMEZONE
BEGIN:VEVENT
UID:6c7e18b0ff1df4781159636a31ff051f
CATEGORIES:Buitenrit
CREATED:20250108T222942
SUMMARY:Zomerrit Manege Groot,  Egmond
LOCATION:Herenweg 154\, Egmond a/d Hoef
DESCRIPTION:<p>We organiseren weer een zomerse duinrit bij manege Groot in Egmond.&nbsp
 ;</p><p>We worden verwacht om 09.00 voor indeling en opzadelen.&nbsp;</p><p
 >Er is plek voor 10 ruiters.&nbsp;&nbsp;</p><p><strong>Adres</strong></p><p
 >Manege Groot<br /> Herenweg 154<br /> Egmond a/d Hoef<br /> <a href="http:
 //www.manegegroot.nl/">http://www.manegegroot.nl/</a></p><p><strong>Prijs&n
 bsp; &nbsp; (bij min. 8 deelnemers)</strong></p><p>Leden: &nbsp;€ 45,00&nbs
 p;&nbsp;<br /> Introducees: € 50,00</p><p><strong>Aanmelden</strong></p><p>
 <span style="color: #333333; font-family: Arial,Helvetica,sans-serif;">Aanm
 elden kan door een e-mail te sturen naar:&nbsp;</span><span id="cloak52a568
 4fd78b2f18bb0d0b8bd0aa1653" style="color: #333333; font-family: Arial,Helve
 tica,sans-serif;"><a></a><joomla-hidden-mail  is-link="1" is-email="1" firs
 t="YmJyci5ldmVuZW1lbnRlbg==" last="eWFob28uY29t" text="YmJyci5ldmVuZW1lbnRl
 bkB5YWhvby5jb20=" base="" >Dit e-mailadres wordt beveiligd tegen spambots. 
 JavaScript dient ingeschakeld te zijn om het te bekijken.</joomla-hidden-ma
 il>&nbsp;of via de whatsapp groep.</span></p><p><strong>Deelnemers</strong>
 </p><ol><li>Anne Maaike van Vliet</li><li>Gesine Alkema-Westphal</li><li>Ge
 rrit Goede</li><li>Evert Goede</li><li>Dineke Hoekstra</li><li>Charlotte Ja
 nssen</li><li>&nbsp;Merel Heering</li><li>&nbsp;Niek Heering</li><li></li><
 /ol>
CONTACT:Laura
DTSTAMP:20260425T170243
DTSTART;TZID=Europe/Amsterdam:20250713T093000
DTEND;TZID=Europe/Amsterdam:20250713T113000
SEQUENCE:0
TRANSP:OPAQUE
END:VEVENT
END:VCALENDAR